BEGIN:VCALENDAR
VERSION:2.0
PRODID:-//Exposure Skate - ECPv6.15.20//NONSGML v1.0//EN
CALSCALE:GREGORIAN
METHOD:PUBLISH
X-WR-CALNAME:Exposure Skate
X-ORIGINAL-URL:https://exposureskate.org
X-WR-CALDESC:Events for Exposure Skate
REFRESH-INTERVAL;VALUE=DURATION:PT1H
X-Robots-Tag:noindex
X-PUBLISHED-TTL:PT1H
BEGIN:VTIMEZONE
TZID:America/Los_Angeles
BEGIN:DAYLIGHT
TZOFFSETFROM:-0800
TZOFFSETTO:-0700
TZNAME:PDT
DTSTART:20240310T100000
END:DAYLIGHT
BEGIN:STANDARD
TZOFFSETFROM:-0700
TZOFFSETTO:-0800
TZNAME:PST
DTSTART:20241103T090000
END:STANDARD
BEGIN:DAYLIGHT
TZOFFSETFROM:-0800
TZOFFSETTO:-0700
TZNAME:PDT
DTSTART:20250309T100000
END:DAYLIGHT
BEGIN:STANDARD
TZOFFSETFROM:-0700
TZOFFSETTO:-0800
TZNAME:PST
DTSTART:20251102T090000
END:STANDARD
BEGIN:DAYLIGHT
TZOFFSETFROM:-0800
TZOFFSETTO:-0700
TZNAME:PDT
DTSTART:20260308T100000
END:DAYLIGHT
BEGIN:STANDARD
TZOFFSETFROM:-0700
TZOFFSETTO:-0800
TZNAME:PST
DTSTART:20261101T090000
END:STANDARD
END:VTIMEZONE
BEGIN:VEVENT
DTSTART;VALUE=DATE:20250706
DTEND;VALUE=DATE:20250714
DTSTAMP:20260424T005803
CREATED:20250310T230635Z
LAST-MODIFIED:20250310T231410Z
UID:35453-1751760000-1752451199@exposureskate.org
SUMMARY:Exposure Week at Woodward PA
DESCRIPTION:Join the Exposure Team and special guests for an unforgettable summer camp experience at the beautiful Woodward Action Sports Camp in Pennsylvania \nWoodward is an overnight camp with state of the art skate facilities and recreational activities. \nHere is what you can expect your day to look like at Woodward: \n\nRise & Shine: Wake up with your cabin mates and fuel up with a hearty breakfast.\nMorning Stretch & Announcements: Get prepped for the day with your group before heading into your first session.\nMorning Instruction: Whether you’re dropping in for the first time\, perfecting a trick\, or pushing your skills to new heights\, this is where the magic happens.\nLunch Break: Refuel\, relax\, and catch up with friends before the next adventure.\nAfternoon Instruction & Specialty Events: Choose your focus for the afternoon—work on new skills\, compete in special challenges like high jump or S.K.A.T.E.\, or hit the parks for free ride time.\n\nExposure Week will implement special Exposure sessions\, activities and guest pros! \nExposure week is July 6-12th but you can use PROMO CODE “exposure” which is valid for a $150 discount for any week. \nREGISTER HERE
URL:https://exposureskate.org/event/exposure-week-at-woodward-pa/
LOCATION:Woodward PA\, 134 Sports Camp Dr\, Woodward\, PA\, 16882\, United States
ATTACH;FMTTYPE=image/jpeg:https://exposureskate.org/wp-content/uploads/2025/02/WWPA_SKATE_CAMPER_VIP_AMELIA_BRODKA_EXPOSURE_PROGRESSION_CENTRE_GROUP_WEEK4_FONTAINE_0342-scaled.jpg
END:VEVENT
END:VCALENDAR