BEGIN:VCALENDAR
VERSION:2.0
PRODID:-//Exposure Skate - ECPv6.15.20//NONSGML v1.0//EN
CALSCALE:GREGORIAN
METHOD:PUBLISH
X-ORIGINAL-URL:https://exposureskate.org
X-WR-CALDESC:Events for Exposure Skate
REFRESH-INTERVAL;VALUE=DURATION:PT1H
X-Robots-Tag:noindex
X-PUBLISHED-TTL:PT1H
BEGIN:VTIMEZONE
TZID:America/Los_Angeles
BEGIN:DAYLIGHT
TZOFFSETFROM:-0800
TZOFFSETTO:-0700
TZNAME:PDT
DTSTART:20240310T100000
END:DAYLIGHT
BEGIN:STANDARD
TZOFFSETFROM:-0700
TZOFFSETTO:-0800
TZNAME:PST
DTSTART:20241103T090000
END:STANDARD
BEGIN:DAYLIGHT
TZOFFSETFROM:-0800
TZOFFSETTO:-0700
TZNAME:PDT
DTSTART:20250309T100000
END:DAYLIGHT
BEGIN:STANDARD
TZOFFSETFROM:-0700
TZOFFSETTO:-0800
TZNAME:PST
DTSTART:20251102T090000
END:STANDARD
BEGIN:DAYLIGHT
TZOFFSETFROM:-0800
TZOFFSETTO:-0700
TZNAME:PDT
DTSTART:20260308T100000
END:DAYLIGHT
BEGIN:STANDARD
TZOFFSETFROM:-0700
TZOFFSETTO:-0800
TZNAME:PST
DTSTART:20261101T090000
END:STANDARD
END:VTIMEZONE
BEGIN:VEVENT
DTSTART;TZID=America/Los_Angeles:20251028T180000
DTEND;TZID=America/Los_Angeles:20251028T210000
DTSTAMP:20260423T174636
CREATED:20251021T021621Z
LAST-MODIFIED:20251025T011309Z
UID:36855-1761674400-1761685200@exposureskate.org
SUMMARY:Barntime Presents Exposure Celebration
DESCRIPTION:Come on down to Fox Point Farms’ Leucadia Listening Lounge to celebrate the skate community presented by Barn Time. Grab some food and beverages and enjoy live performances by Bryce Wettstein and Beebs as well as skate videos! Open to all ages.
URL:https://exposureskate.org/event/barntime-presents-exposure-celebration/
LOCATION:Fox Point Farms\, 1200 Fox Point Farms Lane\, Encinitas\, CA\, 92024\, United States
ATTACH;FMTTYPE=image/png:https://exposureskate.org/wp-content/uploads/2025/10/Exposure-Leucadia-Listening-Lounge.png
END:VEVENT
END:VCALENDAR