BEGIN:VCALENDAR
VERSION:2.0
PRODID:-//Exposure Skate - ECPv6.15.20//NONSGML v1.0//EN
CALSCALE:GREGORIAN
METHOD:PUBLISH
X-WR-CALNAME:Exposure Skate
X-ORIGINAL-URL:https://exposureskate.org
X-WR-CALDESC:Events for Exposure Skate
REFRESH-INTERVAL;VALUE=DURATION:PT1H
X-Robots-Tag:noindex
X-PUBLISHED-TTL:PT1H
BEGIN:VTIMEZONE
TZID:America/Los_Angeles
BEGIN:DAYLIGHT
TZOFFSETFROM:-0800
TZOFFSETTO:-0700
TZNAME:PDT
DTSTART:20240310T100000
END:DAYLIGHT
BEGIN:STANDARD
TZOFFSETFROM:-0700
TZOFFSETTO:-0800
TZNAME:PST
DTSTART:20241103T090000
END:STANDARD
BEGIN:DAYLIGHT
TZOFFSETFROM:-0800
TZOFFSETTO:-0700
TZNAME:PDT
DTSTART:20250309T100000
END:DAYLIGHT
BEGIN:STANDARD
TZOFFSETFROM:-0700
TZOFFSETTO:-0800
TZNAME:PST
DTSTART:20251102T090000
END:STANDARD
BEGIN:DAYLIGHT
TZOFFSETFROM:-0800
TZOFFSETTO:-0700
TZNAME:PDT
DTSTART:20260308T100000
END:DAYLIGHT
BEGIN:STANDARD
TZOFFSETFROM:-0700
TZOFFSETTO:-0800
TZNAME:PST
DTSTART:20261101T090000
END:STANDARD
BEGIN:DAYLIGHT
TZOFFSETFROM:-0800
TZOFFSETTO:-0700
TZNAME:PDT
DTSTART:20270314T100000
END:DAYLIGHT
BEGIN:STANDARD
TZOFFSETFROM:-0700
TZOFFSETTO:-0800
TZNAME:PST
DTSTART:20271107T090000
END:STANDARD
END:VTIMEZONE
BEGIN:VTIMEZONE
TZID:UTC
BEGIN:STANDARD
TZOFFSETFROM:+0000
TZOFFSETTO:+0000
TZNAME:UTC
DTSTART:20240101T000000
END:STANDARD
END:VTIMEZONE
BEGIN:VEVENT
DTSTART;VALUE=DATE:20250815
DTEND;VALUE=DATE:20250818
DTSTAMP:20260424T053750
CREATED:20250807T231614Z
LAST-MODIFIED:20250807T232139Z
UID:36457-1755216000-1755475199@exposureskate.org
SUMMARY:Exposure at Rockstar Energy Open
DESCRIPTION:Exposure Skate will be back at the Rockstar Energy Open August 15-17th! Together Exposure Skate and Super Skate Posse\, along with support from Save a Brain and PDX Skate shops\, will be generously giving away 200 skateboards and helments to community day guests from 10am – 12pm on Friday\, August 15th. We will then be activating on-site all weekend long!
URL:https://exposureskate.org/event/exposure-at-rockstar-energy-open/
LOCATION:waterfront park\, Portland\, OR\, 98 SW Naito Pkwy\,\, Portland\, CA\, 97204\, United States
ATTACH;FMTTYPE=image/png:https://exposureskate.org/wp-content/uploads/2025/08/Screenshot-2025-08-07-at-4.14.29-PM.png
END:VEVENT
BEGIN:VEVENT
DTSTART;TZID=America/Los_Angeles:20250913T110000
DTEND;TZID=America/Los_Angeles:20250913T160000
DTSTAMP:20260424T053750
CREATED:20250807T230720Z
LAST-MODIFIED:20250830T003012Z
UID:36455-1757761200-1757779200@exposureskate.org
SUMMARY:Alaska Air 2.0
DESCRIPTION:Join Exposure Skate and USA Skateboarding at the Clairemont YMCA Skatepark for a Skate Rising Experience coupled with a “Best Air” Competition on the 4th Skatercross jump! \nIf you would like to join the Skate Rising portion\, please sign up for FREE here. \nThe event schedule is as follows: \n\nOn-Site Check-in begins and doors open at 11:00am *\nSkate Rising: 11:30am – 1:30pm\n2:15pm – watch your instructors skate alongside pro skaters in Alaska Airlines’ Boardercross Best Trick Contest (registration coming soon) \n \nRegistration deadline for Skate Rising is Friday\, March 12th\, 2025 at 8:00PM \nTo ensure the best experience for all participants\, advance registration is required for Skate Rising. Registering ahead of time allows us to pair each participant with the right skateboard coach and plan for the appropriate number of instructors. It also helps us organize the event smoothly and speeds up the check-in process. \n  \nAny participant who has not registered before the deadline will be required to pay a $10.00 fee at the door. We appreciate your cooperation in helping us create an amazing and well-organized event for everyone!
URL:https://exposureskate.org/event/alaska-air-2-0/
LOCATION:Clairemont Skatepark\, 3401 Clairemont Dr\, San Diego\, CA\, 92117\, United States
ATTACH;FMTTYPE=image/jpeg:https://exposureskate.org/wp-content/uploads/2025/08/dropping-in_Phoenix-Dickinson_Clairemont-YMCA_Skate-Rising-March-15-2025-scaled.jpg
END:VEVENT
BEGIN:VEVENT
DTSTART;TZID=America/Los_Angeles:20251028T180000
DTEND;TZID=America/Los_Angeles:20251028T210000
DTSTAMP:20260424T053750
CREATED:20251021T021621Z
LAST-MODIFIED:20251025T011309Z
UID:36855-1761674400-1761685200@exposureskate.org
SUMMARY:Barntime Presents Exposure Celebration
DESCRIPTION:Come on down to Fox Point Farms’ Leucadia Listening Lounge to celebrate the skate community presented by Barn Time. Grab some food and beverages and enjoy live performances by Bryce Wettstein and Beebs as well as skate videos! Open to all ages.
URL:https://exposureskate.org/event/barntime-presents-exposure-celebration/
LOCATION:Fox Point Farms\, 1200 Fox Point Farms Lane\, Encinitas\, CA\, 92024\, United States
ATTACH;FMTTYPE=image/png:https://exposureskate.org/wp-content/uploads/2025/10/Exposure-Leucadia-Listening-Lounge.png
END:VEVENT
BEGIN:VEVENT
DTSTART;TZID=America/Los_Angeles:20251030T180000
DTEND;TZID=America/Los_Angeles:20251030T210000
DTSTAMP:20260424T053750
CREATED:20251021T015742Z
LAST-MODIFIED:20251021T021945Z
UID:36848-1761847200-1761858000@exposureskate.org
SUMMARY:Etnies Welcome to Town Party
DESCRIPTION:Etnies and Status Skateshop are We’re starting the celebrations early with a special event presented etnies and Keep A Breast happening Thursday\, October 30th from 6-9 pm in Carlsbad at Status Skate Shop. \nCome hang out\, grab a slice of Best Pizza & Brew + dessert from Mochici’s Donuts\, and enjoy a live performance at 7:30pm by The Cherry Bombs! \nThe evening will also feature a powerful story shared by Kendra Sebelius. \nWhether you’re traveling in or already in town for Exposure 2025 (Nov 1 & 2)\, this is the perfect way to celebrate and connect with a supportive community!
URL:https://exposureskate.org/event/etnies-welcome-to-town-party/
LOCATION:Status Skate Shop\, 3045 Roosevelt St\, Carlsbad\, CA\, 92008\, United States
ATTACH;FMTTYPE=image/jpeg:https://exposureskate.org/wp-content/uploads/2025/10/Welcome-to-Town-Party-Flyer-2025.jpg
END:VEVENT
BEGIN:VEVENT
DTSTART;VALUE=DATE:20251101
DTEND;VALUE=DATE:20251103
DTSTAMP:20260424T053750
CREATED:20250117T032616Z
LAST-MODIFIED:20251031T151724Z
UID:35251-1761955200-1762127999@exposureskate.org
SUMMARY:Exposure 2025
DESCRIPTION:Come be a part of Exposure\, a FREE event featuring the world’s best in women’s skateboarding\, free skateboarding clinics for all ages\, a family-friendly vendor village including games\, prizes\, food trucks and more! \nExposure is the world’s largest and longest-running women’s skateboarding event and brings together top athletes\, rising stars\, skateboarding legends and fans to celebrate the rise of women’s skateboarding. \nThe event also serves as a fundraiser\, with proceeds going toward programs supporting survivors of domestic violence. Donate Here to support. \nAthlete Registration & Competition format information: Click Here \nMonday – Friday Bowl Practice Schedule can be found here \nThe Vendor Village\, Game Zone and Food Trucks are open 9am – 4:30 pm each day and specific competition programming can be found below. \nPARKING!!! Please park at our ancillary lot and take the free shuttle SDA – 800 Santa Fe Dr. Encinitas\, CA 92024 \nRESULTS WILL BE LIVE AFTER EACH COMPETITION DAY HERE \nSATURDAY EVENT DAY 1 \n\n9am Intermediate Street Competition\n10:30am – 12pm Free Learn-to-Skate Clinics\n10:30am Bowl Advanced Competition\n11:30am Bowl Intermediate Competition\n1:00pm Bowl Golden Competition\n2:00pm: BOWL OPEN/PRO COMPETITION streaming live here\nImmediately following: Longest Grind\nAwards Immediately following\n7pm – Live taping of Good Luck With That: A Podcast About Skateboarding on the iHeart Women’s Sports Network. Hosted by Ashley Rehfeld\, Nora Vasconcellos\, Alex White and Mimi Knoop at the La Paloma. Free tickets here. \n\nSUNDAY EVENT DAY 2 \n\n9am: Advanced Street Competition\n10:30am – 12pm Free Learn-to-Skate Clinics\n10:30am: Intermediate Vert Competition\nImmediately Following: Intermediate Vert Best Trick\n11:45am: Special Presentation\n12:00pm: VERT OPEN/PRO COMPETITION\nImmediately following: Pro Vert Best Trick\nImmediately following: Vert High Air\n2:00pm STREET OPEN/PRO COMPETITION\nImmediately following: Pro Street Best Trick\nAwards immediately following\n12pm – 4:30 pm events will be streaming live here
URL:https://exposureskate.org/event/exposure-2025/
LOCATION:Encinitas Poods Skate Park\, 425 S. Santa Fe Dr\, Encinitas\, CA\, 92024\, United States
ATTACH;FMTTYPE=image/jpeg:https://exposureskate.org/wp-content/uploads/2025/10/Exposure-2025-Event-Poster-Final-with-Logos.jpg
ORGANIZER;CN="Exposure":MAILTO:support@exposureskate.org
END:VEVENT
BEGIN:VEVENT
DTSTART;TZID=America/Los_Angeles:20251206T110000
DTEND;TZID=America/Los_Angeles:20251206T130000
DTSTAMP:20260424T053750
CREATED:20251121T004938Z
LAST-MODIFIED:20251121T005917Z
UID:37012-1765018800-1765026000@exposureskate.org
SUMMARY:Skate Rising at LVL UP!
DESCRIPTION:Join us for a FREE event for girls age 4-16 of all abilities! We will be providing learn-to-skate clinics at the new LVL Up facility taught by Olympians and Pros. The event will also teach compassion through service and engage participants in filling holiday stockings with self-care items for women housed at the Community Resource Center’s Domestic Violence Shelter. \nREGISTRATION IS FREE BUT YOU MUST SIGN UP BY DECEMBER 5TH AT 8PM HERE
URL:https://exposureskate.org/event/skate-rising-at-lvl-up/
LOCATION:LVL Up\, 1410 Vantage Court\, Vista\, CA\, United States
ATTACH;FMTTYPE=image/png:https://exposureskate.org/wp-content/uploads/2025/11/1.png
END:VEVENT
BEGIN:VEVENT
DTSTART;TZID=America/Los_Angeles:20260207T100000
DTEND;TZID=America/Los_Angeles:20260207T120000
DTSTAMP:20260424T053750
CREATED:20260128T211731Z
LAST-MODIFIED:20260128T211731Z
UID:37077-1770458400-1770465600@exposureskate.org
SUMMARY:Skate Rising at LVL Up
DESCRIPTION:Skate Rising is Exposure Skate’s Youth Program for Girls 4 – 16 teaching empowerment through skateboarding and compassion through service. The event is FREE to participate in for those who register in advance here.
URL:https://exposureskate.org/event/skate-rising-at-lvl-up-2/
LOCATION:LVL Up\, 1410 Vantage Court\, Vista\, CA\, United States
ATTACH;FMTTYPE=image/jpeg:https://exposureskate.org/wp-content/uploads/2026/01/DSC05999-scaled.jpg
END:VEVENT
BEGIN:VEVENT
DTSTART;TZID=America/Los_Angeles:20260307T100000
DTEND;TZID=America/Los_Angeles:20260308T120000
DTSTAMP:20260424T053750
CREATED:20260302T191310Z
LAST-MODIFIED:20260302T191310Z
UID:37091-1772877600-1772971200@exposureskate.org
SUMMARY:International Women's Day Skate Rising
DESCRIPTION:Join us for a very special International Women’s Day Skate Rising Event! \nThis free event is for girls 4-12 and will consist of all abilities learn-to-skate clinics at the private Olympic training facility LVL Up\, empowerment activities and a very special guest panel where girls can be inspired by women in male-dominated roles to learn all about what they can be when they grow up. \nRegister FREE here!  \n*Must Register by 8pm on March 6th!
URL:https://exposureskate.org/event/international-womens-day-skate-rising-2/
LOCATION:LVL Up\, 1410 Vantage Court\, Vista\, CA\, United States
ATTACH;FMTTYPE=image/jpeg:https://exposureskate.org/wp-content/uploads/2026/03/Erin-Wolfkiel-Holding-Hands-Teaching-Mini-Ramps_LVLUP_February-2026-Skate-Rising_Katie-Flores-scaled.jpg
END:VEVENT
BEGIN:VEVENT
DTSTART;TZID=America/Los_Angeles:20260411T100000
DTEND;TZID=America/Los_Angeles:20260411T120000
DTSTAMP:20260424T053750
CREATED:20260316T212223Z
LAST-MODIFIED:20260316T213005Z
UID:37101-1775901600-1775908800@exposureskate.org
SUMMARY:Skate Rising- April 2026
DESCRIPTION:Join us on Saturday\, April 11th at LVLUP USA for Skate Rising! Skate Rising is Exposure Skate’s learn-to-skate programming for girls ages 4-16\, teaching empowerment through skateboarding and compassion through service. The event is FREE to those who register in advance. \nRegister for Skate Rising HERE 
URL:https://exposureskate.org/event/skate-rising-april/
LOCATION:LVL Up\, 1410 Vantage Court\, Vista\, CA\, United States
ATTACH;FMTTYPE=image/png:https://exposureskate.org/wp-content/uploads/2026/03/April-SR-Banner-scaled.png
END:VEVENT
BEGIN:VEVENT
DTSTART;TZID=America/Los_Angeles:20260523T100000
DTEND;TZID=America/Los_Angeles:20260523T120000
DTSTAMP:20260424T053750
CREATED:20260316T222227Z
LAST-MODIFIED:20260316T222227Z
UID:37123-1779530400-1779537600@exposureskate.org
SUMMARY:Sesh(E)- May 2026
DESCRIPTION:Join us on Saturday\, May 23rd at LVLUP USA for Sesh(E)! Sesh(E) is Exposure Skate’s learn-to-skate programming for women and non-binary folks ages 16+\, cultivating community connection and teaching self love through skateboarding. The event is FREE for those who register in advance. \n 
URL:https://exposureskate.org/event/seshe-may-2026/
LOCATION:LVL Up\, 1410 Vantage Court\, Vista\, CA\, United States
ATTACH;FMTTYPE=image/jpeg:https://exposureskate.org/wp-content/uploads/2026/03/Bowl-Group-SeshE-2024-Feb-1-scaled.jpg
ORGANIZER;CN="Exposure":MAILTO:support@exposureskate.org
END:VEVENT
BEGIN:VEVENT
DTSTART;VALUE=DATE:20260802
DTEND;VALUE=DATE:20260809
DTSTAMP:20260424T053750
CREATED:20260316T231436Z
LAST-MODIFIED:20260316T231436Z
UID:37127-1785628800-1786233599@exposureskate.org
SUMMARY:Exposure Week at Woodward- 2026
DESCRIPTION:Exposure Week at Woodward Camp: An unforgettable week for girls ages 7-17 to skate\, grow\, and connect. Join us for Week 8 (August 2-8) and spend the summer progressing your skills in a supportive and uplifting environment\, learning from inspiring role models\, and growing your confidence on your skateboard. \nCampers will get to partake in empowering and community building hands-on craft activities\, while learning self-love and building meaningful friendships that will last well beyond camp. This is more than just a week at camp\, this is an opportunity to experience empowerment and learn compassion with Exposure Skate. \nRegister HERE and use code “exposure” for $150 off!!
URL:https://exposureskate.org/event/exposure-week-at-woodward-2026/
LOCATION:Woodward PA\, 134 Sports Camp Dr\, Woodward\, PA\, 16882\, United States
ATTACH;FMTTYPE=image/jpeg:https://exposureskate.org/wp-content/uploads/2026/03/WWPA_SKATE_AMELIA_BRODKA_CAMPER_CANDID_PROGRESSION_CENTRE_WK4_2025_MCELWEE-21-scaled.jpg
END:VEVENT
BEGIN:VEVENT
DTSTART;VALUE=DATE:20261106
DTEND;VALUE=DATE:20261109
DTSTAMP:20260424T053750
CREATED:20260407T182628Z
LAST-MODIFIED:20260407T182628Z
UID:37161-1793923200-1794182399@exposureskate.org
SUMMARY:Exposure 2026
DESCRIPTION:Come be part of the 15th annual Exposure; a FREE festival located in Southern California showcasing and celebrating the progression of women’s skateboarding! \nExposure brings together rising stars\, seasoned pros\, skateboarding legends\, and fans alike to share in the stoke and witness skateboarding history being made year after year. This event also serves as a benefit\, with proceeds going towards programs and resources that support survivors of domestic violence. \nExposure has something for everyone with events ranging across vert\, bowl\, and street disciplines; not to mention a vibrant and family friendly vendor village with prizes and games\, learn-to-skate clinics for all ages\, and a diverse selection of food trucks. \nCompetitor information can be found HERE \nStay tuned to learn more!
URL:https://exposureskate.org/event/exposure-2026/
ATTACH;FMTTYPE=image/jpeg:https://exposureskate.org/wp-content/uploads/2026/03/CAM14003-scaled.jpg
ORGANIZER;CN="Exposure":MAILTO:support@exposureskate.org
END:VEVENT
END:VCALENDAR