BEGIN:VCALENDAR
VERSION:2.0
PRODID:-//Exposure Skate - ECPv6.15.20//NONSGML v1.0//EN
CALSCALE:GREGORIAN
METHOD:PUBLISH
X-WR-CALNAME:Exposure Skate
X-ORIGINAL-URL:https://exposureskate.org
X-WR-CALDESC:Events for Exposure Skate
REFRESH-INTERVAL;VALUE=DURATION:PT1H
X-Robots-Tag:noindex
X-PUBLISHED-TTL:PT1H
BEGIN:VTIMEZONE
TZID:America/Denver
BEGIN:DAYLIGHT
TZOFFSETFROM:-0700
TZOFFSETTO:-0600
TZNAME:MDT
DTSTART:20240310T090000
END:DAYLIGHT
BEGIN:STANDARD
TZOFFSETFROM:-0600
TZOFFSETTO:-0700
TZNAME:MST
DTSTART:20241103T080000
END:STANDARD
BEGIN:DAYLIGHT
TZOFFSETFROM:-0700
TZOFFSETTO:-0600
TZNAME:MDT
DTSTART:20250309T090000
END:DAYLIGHT
BEGIN:STANDARD
TZOFFSETFROM:-0600
TZOFFSETTO:-0700
TZNAME:MST
DTSTART:20251102T080000
END:STANDARD
BEGIN:DAYLIGHT
TZOFFSETFROM:-0700
TZOFFSETTO:-0600
TZNAME:MDT
DTSTART:20260308T090000
END:DAYLIGHT
BEGIN:STANDARD
TZOFFSETFROM:-0600
TZOFFSETTO:-0700
TZNAME:MST
DTSTART:20261101T080000
END:STANDARD
END:VTIMEZONE
BEGIN:VTIMEZONE
TZID:America/Los_Angeles
BEGIN:DAYLIGHT
TZOFFSETFROM:-0800
TZOFFSETTO:-0700
TZNAME:PDT
DTSTART:20240310T100000
END:DAYLIGHT
BEGIN:STANDARD
TZOFFSETFROM:-0700
TZOFFSETTO:-0800
TZNAME:PST
DTSTART:20241103T090000
END:STANDARD
BEGIN:DAYLIGHT
TZOFFSETFROM:-0800
TZOFFSETTO:-0700
TZNAME:PDT
DTSTART:20250309T100000
END:DAYLIGHT
BEGIN:STANDARD
TZOFFSETFROM:-0700
TZOFFSETTO:-0800
TZNAME:PST
DTSTART:20251102T090000
END:STANDARD
BEGIN:DAYLIGHT
TZOFFSETFROM:-0800
TZOFFSETTO:-0700
TZNAME:PDT
DTSTART:20260308T100000
END:DAYLIGHT
BEGIN:STANDARD
TZOFFSETFROM:-0700
TZOFFSETTO:-0800
TZNAME:PST
DTSTART:20261101T090000
END:STANDARD
END:VTIMEZONE
BEGIN:VTIMEZONE
TZID:UTC
BEGIN:STANDARD
TZOFFSETFROM:+0000
TZOFFSETTO:+0000
TZNAME:UTC
DTSTART:20230101T000000
END:STANDARD
END:VTIMEZONE
BEGIN:VEVENT
DTSTART;TZID=America/Denver:20250412T150000
DTEND;TZID=America/Denver:20250412T170000
DTSTAMP:20260423T163126
CREATED:20250312T223436Z
LAST-MODIFIED:20250314T005330Z
UID:35480-1744470000-1744477200@exposureskate.org
SUMMARY:SKATE RISING
DESCRIPTION:Skate Rising offers safety equipment\, trained coaches\, educational supplies and service learning. \nWe aim for participants to leave each event with new-found confidence\, a sense of community and the motivation and tools to support the world around them. \nCLICK HERE TO REGISTER – Registration is free if done online prior to 8pm on April 11. If you arrive on-site without having registered via this link\, the fee will be $10 per skater. \n 
URL:https://exposureskate.org/event/skate-rising-2/
LOCATION:CATF\, 1410 Vantage Ct\, Vista\, 92081\, United States
ATTACH;FMTTYPE=image/jpeg:https://exposureskate.org/wp-content/uploads/2024/10/Skate-Rising.jpg
ORGANIZER;CN="Exposure":MAILTO:support@exposureskate.org
END:VEVENT
BEGIN:VEVENT
DTSTART;TZID=America/Los_Angeles:20250315T150000
DTEND;TZID=America/Los_Angeles:20250315T170000
DTSTAMP:20260423T163126
CREATED:20250310T222408Z
LAST-MODIFIED:20250310T222707Z
UID:35445-1742050800-1742058000@exposureskate.org
SUMMARY:Skate Rising at Alaska Air
DESCRIPTION:Exposure Skate will be offering free skate clinics 3-5pm at the Clairemont YMCA on Saturday\, March 15th.\nParticipants must register here by March 14th at 8pm.\n\nEvent Schedule\n2pm – on-site check in & doors open\n3pm – 5pm Skate Rising\n5:30pm watch your instructors and local pros and Olympians skate in a high air competition on the vert ramp!
URL:https://exposureskate.org/event/skate-rising-at-alaska-air/
LOCATION:Clairemont Skatepark\, 3401 Clairemont Dr\, San Diego\, CA\, 92117\, United States
ATTACH;FMTTYPE=image/heic:https://exposureskate.org/wp-content/uploads/2025/03/Alaska-Air-Flyer.jpg
END:VEVENT
BEGIN:VEVENT
DTSTART;TZID=America/Denver:20250308T150000
DTEND;TZID=America/Denver:20250308T170000
DTSTAMP:20260423T163126
CREATED:20250213T101853Z
LAST-MODIFIED:20250213T172841Z
UID:35380-1741446000-1741453200@exposureskate.org
SUMMARY:International Women's Day | Skate Rising
DESCRIPTION: Learn-to-Skate Clinic for girls ages 4-16 \nSkate Rising offers: \n\nSafety Equipment\nTrained Coaches\,\nEducational Supplies\nService Learning\n\nWe aim for participants to leave each event with new-found confidence\, a sense of community and the motivation and tools to support the world around them. \nTHE EVENT IS FREE BUT PLEASE REGISTER HERE . \nCATF is hosting an open skate session at the official USA Skateboarding Training Facility from 12pm-3pm for All ages.  Please join us before the skate clinic to skate CATF which is normally closed to the public.
URL:https://exposureskate.org/event/international-womens-day-skate-rising/
LOCATION:CATF\, 1410 Vantage Ct\, Vista\, 92081\, United States
ATTACH;FMTTYPE=image/jpeg:https://exposureskate.org/wp-content/uploads/2017/02/skate_rising_blog.jpg
ORGANIZER;CN="Exposure":MAILTO:support@exposureskate.org
END:VEVENT
BEGIN:VEVENT
DTSTART;TZID=America/Denver:20250208T150000
DTEND;TZID=America/Denver:20250208T170000
DTSTAMP:20260423T163126
CREATED:20250117T031741Z
LAST-MODIFIED:20250117T031904Z
UID:35247-1739026800-1739034000@exposureskate.org
SUMMARY:SKATE RISING
DESCRIPTION:Skate Rising offers safety equipment\, trained coaches\, educational supplies and service learning. \nWe aim for participants to leave each event with new-found confidence\, a sense of community and the motivation and tools to support the world around them. \nTHE EVENT IS FREE BUT PLEASE REGISTER HERE .
URL:https://exposureskate.org/event/skate-rising-catf/
LOCATION:CATF\, 1410 Vantage Ct\, Vista\, 92081\, United States
ATTACH;FMTTYPE=image/jpeg:https://exposureskate.org/wp-content/uploads/2024/10/Skate-Rising.jpg
ORGANIZER;CN="Exposure":MAILTO:support@exposureskate.org
END:VEVENT
BEGIN:VEVENT
DTSTART;TZID=UTC:20241214T090000
DTEND;TZID=UTC:20241214T110000
DTSTAMP:20260423T163126
CREATED:20241003T072251Z
LAST-MODIFIED:20241003T072251Z
UID:34471-1734166800-1734174000@exposureskate.org
SUMMARY:SKATE RISING
DESCRIPTION:Skate Rising offers safety equipment\, trained coaches\, educational supplies and service learning. \nWe aim for participants to leave each event with new-found confidence\, a sense of community and the motivation and tools to support the world around them. \nTHE EVENT IS FREE BUT PLEASE REGISTER HERE .
URL:https://exposureskate.org/event/skate-rising/
LOCATION:Encinitas Poods Skate Park\, 425 S. Santa Fe Dr\, Encinitas\, CA\, 92024\, United States
ATTACH;FMTTYPE=image/jpeg:https://exposureskate.org/wp-content/uploads/2024/10/Skate-Rising.jpg
END:VEVENT
BEGIN:VEVENT
DTSTART;VALUE=DATE:20241102
DTEND;VALUE=DATE:20241104
DTSTAMP:20260423T163126
CREATED:20240906T024122Z
LAST-MODIFIED:20241104T030336Z
UID:355-1730505600-1730678399@exposureskate.org
SUMMARY:Exposure 2024
DESCRIPTION:WATCH LIVE STREAM HERE\n					 \nExposure\, the world’s largest women’s skateboarding event\, will be back for the 13th year in a row to serve as a platform for skaters of all ages and skill levels to compete in vert\, bowl\, and street skateboarding disciplines. It brings together top athletes\, rising stars\, skateboarding legends and fans to celebrate the rise of women’s skateboarding and foster a more inclusive skateboarding community. \nThe event also serves as a fundraiser\, with proceeds going toward programs supporting survivors of domestic violence. Donate Here to support. \nIF YOU WANT TO COMPETE\, CLICK HERE FOR REGISTRATION\, FORMATS AND A DETAILED SCHEDULE. Please see here for Friday bowl practice schedule.\nClick Here for answers to Frequently Asked Questions\nThe event is open to the public\, please see schedule below.\nSaturday \n\n9 – 5 pm Vendor Village Open\n9am: Street Intermediate\n10am: Bowl Golden (30 & Up)\n10:30am: Bowl Intermediate\n11:30pm: Bowl Advanced\n\nWoodward Longest Grind Immediately following\n\n\n12:30 – 3:30 – Woodward Learn-to-Skate \n2:30pm: Bones Love Milk Vert Intermediate\n\nImmediately Following – Vans Vert Best Trick INTERMEDIATE division only\nImmediately Following – Vans Vert High Air\n\n\n4:00pm Patti McGee Tribute\n4:30pm: Awards\n\n7pm – FREE screening of “Beyond the Board” a documentary about Margielyn Didal at the La Paloma. Registration and more info here\nSunday \n\n9 – 4:30 pm Vendor Village Open\n9am: Street Advanced\n9:30am: Street Open/Pro Qualifiers\nEtnies Street Best Trick Immediately Following\n12:30 – 3:30 – Woodward Learn-to-Skate Area open for drop-by sessions\n11:30am: Bowl Open/Pro\n1:00pm: Domestic Violence Awareness Presentation on Vert Ramp\n1:30pm: Bones Love Milk – Vert Open/Pro\nImmediately following: Vans Vert Best Trick Pro Only\n4:20pm: Awards
URL:https://exposureskate.org/event/exposure-2024/
LOCATION:Encinitas Poods Skate Park\, 425 S. Santa Fe Dr\, Encinitas\, CA\, 92024\, United States
ATTACH;FMTTYPE=image/png:https://exposureskate.org/wp-content/uploads/2024/09/exposure2024-instagram-poster-scaled.png
ORGANIZER;CN="Exposure":MAILTO:support@exposureskate.org
END:VEVENT
END:VCALENDAR